BEGIN:VCALENDAR
VERSION:2.0
PRODID:-//Babsy - ECPv6.15.13//NONSGML v1.0//EN
CALSCALE:GREGORIAN
METHOD:PUBLISH
X-WR-CALNAME:Babsy
X-ORIGINAL-URL:https://test.babsy.ch
X-WR-CALDESC:Veranstaltungen für Babsy
REFRESH-INTERVAL;VALUE=DURATION:PT1H
X-Robots-Tag:noindex
X-PUBLISHED-TTL:PT1H
BEGIN:VTIMEZONE
TZID:Europe/Zurich
BEGIN:DAYLIGHT
TZOFFSETFROM:+0100
TZOFFSETTO:+0200
TZNAME:CEST
DTSTART:20210328T010000
END:DAYLIGHT
BEGIN:STANDARD
TZOFFSETFROM:+0200
TZOFFSETTO:+0100
TZNAME:CET
DTSTART:20211031T010000
END:STANDARD
BEGIN:DAYLIGHT
TZOFFSETFROM:+0100
TZOFFSETTO:+0200
TZNAME:CEST
DTSTART:20220327T010000
END:DAYLIGHT
BEGIN:STANDARD
TZOFFSETFROM:+0200
TZOFFSETTO:+0100
TZNAME:CET
DTSTART:20221030T010000
END:STANDARD
BEGIN:DAYLIGHT
TZOFFSETFROM:+0100
TZOFFSETTO:+0200
TZNAME:CEST
DTSTART:20230326T010000
END:DAYLIGHT
BEGIN:STANDARD
TZOFFSETFROM:+0200
TZOFFSETTO:+0100
TZNAME:CET
DTSTART:20231029T010000
END:STANDARD
END:VTIMEZONE
BEGIN:VEVENT
DTSTART;TZID=Europe/Zurich:20221215T170000
DTEND;TZID=Europe/Zurich:20221215T230000
DTSTAMP:20260423T054111
CREATED:20221218T063208Z
LAST-MODIFIED:20221218T063208Z
UID:1964-1671123600-1671145200@test.babsy.ch
SUMMARY:Das Weihnachtsessen
DESCRIPTION:FROHE WEIHNACHTEN!\nBabsy\, möchte Sie einladen\, einen schönen Abend mit ihren Kollegen zu verbringen und gemeinsam Weihnachten zu feiern. \nBabsy freut sich\, Sie bei sich zu haben und wünscht Ihnen allen viel Segen für 2023. \n  \n \n\nFrohe Weihnachten und ein gutes neues Jahr! \n\n\n\n\n \n\n\n\n\n\n\n\n\n\n\n 
URL:https://test.babsy.ch/event/das-weihnachtsessen/
LOCATION:El Mexicano Restaurant\, Steinenvorstadt 58\, Basel\, Basel\, 4051\, Switzerland
CATEGORIES:Für Mitarbeiter des Vereins
END:VEVENT
END:VCALENDAR