BEGIN:VCALENDAR
VERSION:2.0
PRODID:-//Babsy - ECPv6.15.13//NONSGML v1.0//EN
CALSCALE:GREGORIAN
METHOD:PUBLISH
X-WR-CALNAME:Babsy
X-ORIGINAL-URL:https://test.babsy.ch
X-WR-CALDESC:Veranstaltungen für Babsy
REFRESH-INTERVAL;VALUE=DURATION:PT1H
X-Robots-Tag:noindex
X-PUBLISHED-TTL:PT1H
BEGIN:VTIMEZONE
TZID:Europe/Zurich
BEGIN:DAYLIGHT
TZOFFSETFROM:+0100
TZOFFSETTO:+0200
TZNAME:CEST
DTSTART:20220327T010000
END:DAYLIGHT
BEGIN:STANDARD
TZOFFSETFROM:+0200
TZOFFSETTO:+0100
TZNAME:CET
DTSTART:20221030T010000
END:STANDARD
BEGIN:DAYLIGHT
TZOFFSETFROM:+0100
TZOFFSETTO:+0200
TZNAME:CEST
DTSTART:20230326T010000
END:DAYLIGHT
BEGIN:STANDARD
TZOFFSETFROM:+0200
TZOFFSETTO:+0100
TZNAME:CET
DTSTART:20231029T010000
END:STANDARD
BEGIN:DAYLIGHT
TZOFFSETFROM:+0100
TZOFFSETTO:+0200
TZNAME:CEST
DTSTART:20240331T010000
END:DAYLIGHT
BEGIN:STANDARD
TZOFFSETFROM:+0200
TZOFFSETTO:+0100
TZNAME:CET
DTSTART:20241027T010000
END:STANDARD
END:VTIMEZONE
BEGIN:VEVENT
DTSTART;TZID=Europe/Zurich:20231203T170000
DTEND;TZID=Europe/Zurich:20231203T190000
DTSTAMP:20260422T120504
CREATED:20231116T210243Z
LAST-MODIFIED:20231116T213727Z
UID:4539-1701622800-1701630000@test.babsy.ch
SUMMARY:Meet & Greet
DESCRIPTION:Kommt und erlebt mit uns ein fröhliches Meet and Greet! \n\n\n\n\n\n\n\n\n\n\n\n\n\nBabsy – Die neue Welt der Kinderbetreuung
URL:https://test.babsy.ch/event/meet/
LOCATION:Babsy\, Frobenstr. 57\, Basel\, Basel Stadt\, 4053\, Switzerland
ATTACH;FMTTYPE=image/png:https://test.babsy.ch/wp-content/uploads/2022/09/mg2023.png
END:VEVENT
END:VCALENDAR