BEGIN:VCALENDAR
VERSION:2.0
PRODID:-//Babsy - ECPv6.15.13//NONSGML v1.0//EN
CALSCALE:GREGORIAN
METHOD:PUBLISH
X-ORIGINAL-URL:https://test.babsy.ch
X-WR-CALDESC:Veranstaltungen für Babsy
REFRESH-INTERVAL;VALUE=DURATION:PT1H
X-Robots-Tag:noindex
X-PUBLISHED-TTL:PT1H
BEGIN:VTIMEZONE
TZID:Europe/Zurich
BEGIN:DAYLIGHT
TZOFFSETFROM:+0100
TZOFFSETTO:+0200
TZNAME:CEST
DTSTART:20230326T010000
END:DAYLIGHT
BEGIN:STANDARD
TZOFFSETFROM:+0200
TZOFFSETTO:+0100
TZNAME:CET
DTSTART:20231029T010000
END:STANDARD
BEGIN:DAYLIGHT
TZOFFSETFROM:+0100
TZOFFSETTO:+0200
TZNAME:CEST
DTSTART:20240331T010000
END:DAYLIGHT
BEGIN:STANDARD
TZOFFSETFROM:+0200
TZOFFSETTO:+0100
TZNAME:CET
DTSTART:20241027T010000
END:STANDARD
BEGIN:DAYLIGHT
TZOFFSETFROM:+0100
TZOFFSETTO:+0200
TZNAME:CEST
DTSTART:20250330T010000
END:DAYLIGHT
BEGIN:STANDARD
TZOFFSETFROM:+0200
TZOFFSETTO:+0100
TZNAME:CET
DTSTART:20251026T010000
END:STANDARD
END:VTIMEZONE
BEGIN:VEVENT
DTSTART;TZID=Europe/Zurich:20240831T083000
DTEND;TZID=Europe/Zurich:20240831T130000
DTSTAMP:20260419T145405
CREATED:20240816T152911Z
LAST-MODIFIED:20240816T153048Z
UID:8041-1725093000-1725109200@test.babsy.ch
SUMMARY:Kinderkleiderbörse des Familienvereins Rheinfelden
DESCRIPTION:Die Herbst-Kinderkleiderbörse des Familienvereins Rheinfelden findet am SAMSTAG 31. August 2024 statt \n\n\n\n\n\n\n\nDie Kleiderbörse ist von 8.30 -13.00 Uhr durchgängig geöffnet. \n\n\n\nEs kann mit TWINT oder Bargeld bezahlt werden. Wir bevorzugen die kontaktlose Zahlvariante. Sie verringert die Wartezeiten an den Kassen. \n\n\n\nKinderwagen bitte draussen lassen. Es steht ein Buggy-Parkplatz im Eingang des Gebäudes zur Verfügung. \n\n\n\nNeu: Es wird im oberen Stock eine Kinderbetreuung angeboten (gegen eine kleine Gebühr). \n\n\n\nParkmöglichkeiten gibt es beim Parkplatz Schützen\, Rheinfelden.
URL:https://test.babsy.ch/event/kinderkleiderboerse-des-familienvereins-rheinfelden/
LOCATION:Bahnhofsaal             Bahnhofstrasse 21             4310 Rheinfelden\, Bahnhofstrasse 21\, Rheinfelden\, 4310\, Switzerland
END:VEVENT
END:VCALENDAR