BEGIN:VCALENDAR
VERSION:2.0
PRODID:-//Babsy - ECPv6.15.13//NONSGML v1.0//EN
CALSCALE:GREGORIAN
METHOD:PUBLISH
X-ORIGINAL-URL:https://test.babsy.ch
X-WR-CALDESC:Veranstaltungen für Babsy
REFRESH-INTERVAL;VALUE=DURATION:PT1H
X-Robots-Tag:noindex
X-PUBLISHED-TTL:PT1H
BEGIN:VTIMEZONE
TZID:Europe/Zurich
BEGIN:DAYLIGHT
TZOFFSETFROM:+0100
TZOFFSETTO:+0200
TZNAME:CEST
DTSTART:20230326T010000
END:DAYLIGHT
BEGIN:STANDARD
TZOFFSETFROM:+0200
TZOFFSETTO:+0100
TZNAME:CET
DTSTART:20231029T010000
END:STANDARD
BEGIN:DAYLIGHT
TZOFFSETFROM:+0100
TZOFFSETTO:+0200
TZNAME:CEST
DTSTART:20240331T010000
END:DAYLIGHT
BEGIN:STANDARD
TZOFFSETFROM:+0200
TZOFFSETTO:+0100
TZNAME:CET
DTSTART:20241027T010000
END:STANDARD
BEGIN:DAYLIGHT
TZOFFSETFROM:+0100
TZOFFSETTO:+0200
TZNAME:CEST
DTSTART:20250330T010000
END:DAYLIGHT
BEGIN:STANDARD
TZOFFSETFROM:+0200
TZOFFSETTO:+0100
TZNAME:CET
DTSTART:20251026T010000
END:STANDARD
END:VTIMEZONE
BEGIN:VEVENT
DTSTART;TZID=Europe/Zurich:20240907T100000
DTEND;TZID=Europe/Zurich:20240907T150000
DTSTAMP:20260419T145508
CREATED:20240816T163349Z
LAST-MODIFIED:20240816T163557Z
UID:8048-1725703200-1725721200@test.babsy.ch
SUMMARY:Kindersachenflohmarkt Herbst von Treffpunkt Breite
DESCRIPTION:Kleider & SpielsachenEltern und Kinder verkaufen ihre gebrauchten Kindersachen auf dem Platz zwischen Treffpunkt und Cécile-Ines-Loos Anlage. \n\n\n\nEs dürfen keine Lebensmittel (Essen und Getränke) verkauft werden. \n\n\n\nBezug der Verkaufsplätze ab 9:30\, Verkauf ab 10:00 Uhr. Platzgebühr CHF 10.-\, für die optimale Präsentation der Waren können Tische (à CHF 10.-) und Bänke (à 5.-) gemietet werden. \n\n\n\nEine Anmeldung ist nötig mit dem Formular \n\n\n\n \n\n\n\n\n\n\n\nVeranstaltungsort:Treffpunkt Breite (auf dem Hartplatz hinter dem Breitezentrum)
URL:https://test.babsy.ch/event/kindersachenflohmarkt-herbst-von-treffpunkt-breite/
LOCATION:Treffpunkt Breite\, Zürcherstrasse 149\, 4052 Basel
ORGANIZER;CN="Treffpunkt Breite":MAILTO:breite@qtp-basel.ch
END:VEVENT
END:VCALENDAR