BEGIN:VCALENDAR
VERSION:2.0
PRODID:-//Babsy - ECPv6.15.13//NONSGML v1.0//EN
CALSCALE:GREGORIAN
METHOD:PUBLISH
X-ORIGINAL-URL:https://test.babsy.ch
X-WR-CALDESC:Veranstaltungen für Babsy
REFRESH-INTERVAL;VALUE=DURATION:PT1H
X-Robots-Tag:noindex
X-PUBLISHED-TTL:PT1H
BEGIN:VTIMEZONE
TZID:Europe/Zurich
BEGIN:DAYLIGHT
TZOFFSETFROM:+0100
TZOFFSETTO:+0200
TZNAME:CEST
DTSTART:20230326T010000
END:DAYLIGHT
BEGIN:STANDARD
TZOFFSETFROM:+0200
TZOFFSETTO:+0100
TZNAME:CET
DTSTART:20231029T010000
END:STANDARD
BEGIN:DAYLIGHT
TZOFFSETFROM:+0100
TZOFFSETTO:+0200
TZNAME:CEST
DTSTART:20240331T010000
END:DAYLIGHT
BEGIN:STANDARD
TZOFFSETFROM:+0200
TZOFFSETTO:+0100
TZNAME:CET
DTSTART:20241027T010000
END:STANDARD
BEGIN:DAYLIGHT
TZOFFSETFROM:+0100
TZOFFSETTO:+0200
TZNAME:CEST
DTSTART:20250330T010000
END:DAYLIGHT
BEGIN:STANDARD
TZOFFSETFROM:+0200
TZOFFSETTO:+0100
TZNAME:CET
DTSTART:20251026T010000
END:STANDARD
END:VTIMEZONE
BEGIN:VEVENT
DTSTART;TZID=Europe/Zurich:20240921T100000
DTEND;TZID=Europe/Zurich:20240921T113000
DTSTAMP:20260419T145508
CREATED:20240817T051205Z
LAST-MODIFIED:20240817T051238Z
UID:8088-1726912800-1726918200@test.babsy.ch
SUMMARY:Kinderkleiderbörse und Spielzeugbörse von Kinder für Kinder
DESCRIPTION:Organisator: Elternverein Mägenwil \n\n\n\n\n\nHerbst 2024 \n\n\n\nVerkauf:Am 21.09.2024 von 10:00 – 11:30 \n\n\n\nBemerkungen:Die Kleider werden jeweils durch die Verkäufer selbst verkauft (mit Voranmeldung\, Tischgebühr 10 CHF). \n\n\n\nIm Foyer der Schule gibt es die Möglichkeit für Kinder\, ihre Spielsachen zu verkaufen.
URL:https://test.babsy.ch/event/kinderkleiderboerse-und-spielzeugboerse-von-kinder-fuer-kinder/
LOCATION:Schulanlage Oberfeld\, Schulweg\, Mägenwill\, 5506\, Switzerland
ORGANIZER;CN="Elternverein M%C3%A4genwil":MAILTO:boerse@elternverein-maegenwil.ch
END:VEVENT
END:VCALENDAR