BEGIN:VCALENDAR
VERSION:2.0
PRODID:-//Babsy - ECPv6.15.13//NONSGML v1.0//EN
CALSCALE:GREGORIAN
METHOD:PUBLISH
X-WR-CALNAME:Babsy
X-ORIGINAL-URL:https://test.babsy.ch
X-WR-CALDESC:Veranstaltungen für Babsy
REFRESH-INTERVAL;VALUE=DURATION:PT1H
X-Robots-Tag:noindex
X-PUBLISHED-TTL:PT1H
BEGIN:VTIMEZONE
TZID:Europe/Zurich
BEGIN:DAYLIGHT
TZOFFSETFROM:+0100
TZOFFSETTO:+0200
TZNAME:CEST
DTSTART:20230326T010000
END:DAYLIGHT
BEGIN:STANDARD
TZOFFSETFROM:+0200
TZOFFSETTO:+0100
TZNAME:CET
DTSTART:20231029T010000
END:STANDARD
BEGIN:DAYLIGHT
TZOFFSETFROM:+0100
TZOFFSETTO:+0200
TZNAME:CEST
DTSTART:20240331T010000
END:DAYLIGHT
BEGIN:STANDARD
TZOFFSETFROM:+0200
TZOFFSETTO:+0100
TZNAME:CET
DTSTART:20241027T010000
END:STANDARD
BEGIN:DAYLIGHT
TZOFFSETFROM:+0100
TZOFFSETTO:+0200
TZNAME:CEST
DTSTART:20250330T010000
END:DAYLIGHT
BEGIN:STANDARD
TZOFFSETFROM:+0200
TZOFFSETTO:+0100
TZNAME:CET
DTSTART:20251026T010000
END:STANDARD
END:VTIMEZONE
BEGIN:VEVENT
DTSTART;TZID=Europe/Zurich:20240817T203000
DTEND;TZID=Europe/Zurich:20240817T223000
DTSTAMP:20260419T151058
CREATED:20240514T175122Z
LAST-MODIFIED:20240516T143507Z
UID:7010-1723926600-1723933800@test.babsy.ch
SUMMARY:Open Air Kinderkino vom Elternverein Kaiseraugust
DESCRIPTION:Open Air Kinderkino 2024 – am Samstag\, 17. August 2024 Kaiseraugst!\n\n\n\n\n\n\n\n\n\n\n\n\n\n\n\n\n\n\n\nFSK 0 \n\n\n\n\nNachmittags um 16:45 Uhr für die kleinen Besucher (Vorführung in der Turnhalle)Raus aus dem Teich (FSK 0)\n\n\n\n\n\n\nFSK 6 \n\n\n\n\nAbends 20:30 Uhr für die Grösseren als Open Air (oder in der Turnhalle bei schlechter Witterung)Der Super Mario Bros Film (FSK 6)\n\n\n\n\n\n\nDie Filme sind mittlerweile bekannt – nicht vergessen die FSK Vorgaben zu prüfen und entsprechend zu planen! \n\n\n\nVerpflegung\n\n\n\nFür die erwachsenen Begleitpersonen gibt es eine Elternecke mit Kaffee und Kuchenverkauf.  \n\n\n\nAuch für das leibliche Wohl der Kinder ist gesorgt. Es werden üblicherweise Popcorn\, Hotdogs\, Getränke\, Kaffee und Kuchen verkauft. \n\n\n\nAuch für das leibliche Wohl der Kinder ist gesorgt. Es werden üblicherweise Popcorn\, Hotdogs\, Getränke\, Kaffee und Kuchen verkauft. \n\n\n\nZahlung möglich in Bar\, mit Twint oder per Kredit- / Debitkarte (siehe unten) \n\n\n\n \n\n\n\nTickets\n\n\n\n\n\nMitglied Elternverein Kaiseraugst \n\n\n\nKinder 8.- CHFBegleitperson gratis! \n\n\n\n\n\nNicht Mitglied \n\n\n\nKinder 12.-  CHFBegleitperson 8.-  CHF \n\n\n\n\n\nVeranstaltungsort\n\n\n\n\n\nDas Kleingedruckte\n\n\n\n\nKinder zahlen Eintritt ab Kindergarten\n\n\n\nEltern haften für ihre Kinder\n\n\n\nEs gibt keinen Betreuungsdienst\n\n\n\nBegleitpersonen sind Erwachsene ab 18 Jahren\, welche die Kinder zwecks Aufsicht begleiten\n\n\n\nKinder gelten als Mitglied\, wenn die Eltern Mitglied des Elternverein Kaiseraugst sind\n\n\n\nBegleitperson gilt als Mitglied\, wenn sie Mitglied des Elternverein Kaiseraugst ist\n\n\n\nAlle Angaben ohne Gewähr\n\n\n\n\nVeranstalter\n\n\n\n\n\nTrailers\n\n\n\n  Raus aus dem Teich \n\n\n\n\n\n\n\n\n\n\nDer Super Mario Bros Film
URL:https://test.babsy.ch/event/open-air-kinderkino/
LOCATION:Schulhaus Dorf\, Dorfstrasse 18\, 4303\, Kaiseraugst\, Kaiseraugst\, 4303\, Switzerland
END:VEVENT
BEGIN:VEVENT
DTSTART;TZID=Europe/Zurich:20240828T150000
DTEND;TZID=Europe/Zurich:20240828T160000
DTSTAMP:20260419T151058
CREATED:20240817T054315Z
LAST-MODIFIED:20240817T054356Z
UID:8095-1724857200-1724860800@test.babsy.ch
SUMMARY:Märchenzeit
DESCRIPTION:Mit Claudia Itin \n\n\n\n\n\n\n\n\n\nDie Erzählerin Claudia Itin nimmt euch mit auf eine Reise\, die euch verzaubert\, zum Schmunzeln bringt und eure Herzen berührt. Taucht ein in die Welt der Elfen\, Zwerge und Feen und lauscht dem Zauber der Geschichten. \n\n\n\nDauer: 30 – 40 Minuten.Für Kinder ab 4 Jahren. Kleinere Kinder in Begleitung einer erwachsenen Person. \n\n\n\nPreisEintritt frei / Kollekte
URL:https://test.babsy.ch/event/maerchenzeit/
LOCATION:cheesmeyer\, Hauptstrasse 55\, Sissach\, 4450\, Switzerland
END:VEVENT
BEGIN:VEVENT
DTSTART;TZID=Europe/Zurich:20240831T083000
DTEND;TZID=Europe/Zurich:20240831T130000
DTSTAMP:20260419T151059
CREATED:20240816T152911Z
LAST-MODIFIED:20240816T153048Z
UID:8041-1725093000-1725109200@test.babsy.ch
SUMMARY:Kinderkleiderbörse des Familienvereins Rheinfelden
DESCRIPTION:Die Herbst-Kinderkleiderbörse des Familienvereins Rheinfelden findet am SAMSTAG 31. August 2024 statt \n\n\n\n\n\n\n\nDie Kleiderbörse ist von 8.30 -13.00 Uhr durchgängig geöffnet. \n\n\n\nEs kann mit TWINT oder Bargeld bezahlt werden. Wir bevorzugen die kontaktlose Zahlvariante. Sie verringert die Wartezeiten an den Kassen. \n\n\n\nKinderwagen bitte draussen lassen. Es steht ein Buggy-Parkplatz im Eingang des Gebäudes zur Verfügung. \n\n\n\nNeu: Es wird im oberen Stock eine Kinderbetreuung angeboten (gegen eine kleine Gebühr). \n\n\n\nParkmöglichkeiten gibt es beim Parkplatz Schützen\, Rheinfelden.
URL:https://test.babsy.ch/event/kinderkleiderboerse-des-familienvereins-rheinfelden/
LOCATION:Bahnhofsaal             Bahnhofstrasse 21             4310 Rheinfelden\, Bahnhofstrasse 21\, Rheinfelden\, 4310\, Switzerland
END:VEVENT
END:VCALENDAR